BEGIN:VCALENDAR
VERSION:2.0
PRODID:-//https://www.selzthal.at///NONSGML kigkonsult.se iCalcreator 2.10.15//
METHOD:PUBLISH
BEGIN:VEVENT
UID:20260423T223600UTC-6877ncDsZv@https://www.selzthal.at/
DTSTAMP:20260423T223600Z
DESCRIPTION:Bitte beachten Sie die Sicherheitsmaßnahmen:\n\nAbfallarten zuh
 ause vorsortieren &nbsp\;\nVerpflichtung zum Tragen eines Mund-Nasen-Schut
 zes\n1 m³ Abfall je Anlieferung\nmax. 3 Autos gleichzeitig am Betriebsgelä
 nde\n https://www.selzthal.at/aktuelles/abfallkalender/sperr-und-sondermue
 ll/event/775-sperr-und-sondermuell
DTSTART:20260703T110000Z
DTEND:20270624T140000Z
LOCATION:Altstoffsammelzentrum Selzthal (Gösserstraße 4\, 8900\, Selzthal\,
  Liezen\, Steiermark)
SUMMARY:Sperr- und Sondermüll
URL:https://www.selzthal.at/aktuelles/abfallkalender/sperr-und-sondermuell/
 event/775-sperr-und-sondermuell
END:VEVENT
BEGIN:VEVENT
UID:20260423T223600UTC-6880XEljPH@https://www.selzthal.at/
DTSTAMP:20260423T223600Z
DESCRIPTION:Bitte beachten Sie die Sicherheitsmaßnahmen:\n\nAbfallarten zuh
 ause vorsortieren &nbsp\;\nVerpflichtung zum Tragen eines Mund-Nasen-Schut
 zes\n1 m³ Abfall je Anlieferung\nmax. 3 Autos gleichzeitig am Betriebsgelä
 nde\n https://www.selzthal.at/aktuelles/abfallkalender/sperr-und-sondermue
 ll/event/776-sperr-und-sondermuell
DTSTART:20260807T110000Z
DTEND:20270729T140000Z
LOCATION:Altstoffsammelzentrum Selzthal (Gösserstraße 4\, 8900\, Selzthal\,
  Liezen\, Steiermark)
SUMMARY:Sperr- und Sondermüll
URL:https://www.selzthal.at/aktuelles/abfallkalender/sperr-und-sondermuell/
 event/776-sperr-und-sondermuell
END:VEVENT
BEGIN:VEVENT
UID:20260423T223600UTC-6882vVFUsa@https://www.selzthal.at/
DTSTAMP:20260423T223600Z
DESCRIPTION:Bitte beachten Sie die Sicherheitsmaßnahmen:\n\nAbfallarten zuh
 ause vorsortieren &nbsp\;\nVerpflichtung zum Tragen eines Mund-Nasen-Schut
 zes\n1 m³ Abfall je Anlieferung\nmax. 3 Autos gleichzeitig am Betriebsgelä
 nde\n https://www.selzthal.at/aktuelles/abfallkalender/sperr-und-sondermue
 ll/event/777-sperr-und-sondermuell
DTSTART:20260904T110000Z
DTEND:20270826T140000Z
LOCATION:Altstoffsammelzentrum Selzthal (Gösserstraße 4\, 8900\, Selzthal\,
  Liezen\, Steiermark)
SUMMARY:Sperr- und Sondermüll
URL:https://www.selzthal.at/aktuelles/abfallkalender/sperr-und-sondermuell/
 event/777-sperr-und-sondermuell
END:VEVENT
BEGIN:VEVENT
UID:20260423T223600UTC-6884dvwNUB@https://www.selzthal.at/
DTSTAMP:20260423T223600Z
DESCRIPTION:Bitte beachten Sie die Sicherheitsmaßnahmen:\n\nAbfallarten zuh
 ause vorsortieren &nbsp\;\nVerpflichtung zum Tragen eines Mund-Nasen-Schut
 zes\n1 m³ Abfall je Anlieferung\nmax. 3 Autos gleichzeitig am Betriebsgelä
 nde\n https://www.selzthal.at/aktuelles/abfallkalender/sperr-und-sondermue
 ll/event/778-sperr-und-sondermuell
DTSTART:20261002T110000Z
DTEND:20270923T140000Z
LOCATION:Altstoffsammelzentrum Selzthal (Gösserstraße 4\, 8900\, Selzthal\,
  Liezen\, Steiermark)
SUMMARY:Sperr- und Sondermüll
URL:https://www.selzthal.at/aktuelles/abfallkalender/sperr-und-sondermuell/
 event/778-sperr-und-sondermuell
END:VEVENT
BEGIN:VEVENT
UID:20260423T223600UTC-6885PUFcd2@https://www.selzthal.at/
DTSTAMP:20260423T223600Z
DESCRIPTION:Bitte beachten Sie die Sicherheitsmaßnahmen:\n\nAbfallarten zuh
 ause vorsortieren &nbsp\;\nVerpflichtung zum Tragen eines Mund-Nasen-Schut
 zes\n1 m³ Abfall je Anlieferung\nmax. 3 Autos gleichzeitig am Betriebsgelä
 nde\n https://www.selzthal.at/aktuelles/abfallkalender/sperr-und-sondermue
 ll/event/779-sperr-und-sondermuell
DTSTART:20261106T120000Z
DTEND:20271028T140000Z
LOCATION:Altstoffsammelzentrum Selzthal (Gösserstraße 4\, 8900\, Selzthal\,
  Liezen\, Steiermark)
SUMMARY:Sperr- und Sondermüll
URL:https://www.selzthal.at/aktuelles/abfallkalender/sperr-und-sondermuell/
 event/779-sperr-und-sondermuell
END:VEVENT
BEGIN:VEVENT
UID:20260423T223600UTC-6887K0bv6A@https://www.selzthal.at/
DTSTAMP:20260423T223600Z
DESCRIPTION:Bitte beachten Sie die Sicherheitsmaßnahmen:\n\nAbfallarten zuh
 ause vorsortieren &nbsp\;\nVerpflichtung zum Tragen eines Mund-Nasen-Schut
 zes\n1 m³ Abfall je Anlieferung\nmax. 3 Autos gleichzeitig am Betriebsgelä
 nde\n https://www.selzthal.at/aktuelles/abfallkalender/sperr-und-sondermue
 ll/event/780-sperr-und-sondermuell
DTSTART:20261204T120000Z
DTEND:20271125T150000Z
LOCATION:Altstoffsammelzentrum Selzthal (Gösserstraße 4\, 8900\, Selzthal\,
  Liezen\, Steiermark)
SUMMARY:Sperr- und Sondermüll
URL:https://www.selzthal.at/aktuelles/abfallkalender/sperr-und-sondermuell/
 event/780-sperr-und-sondermuell
END:VEVENT
BEGIN:VEVENT
UID:20260423T223600UTC-6888lKW54a@https://www.selzthal.at/
DTSTAMP:20260423T223600Z
DESCRIPTION:Bitte beachten Sie die Sicherheitsmaßnahmen:\n\nAbfallarten zuh
 ause vorsortieren &nbsp\;\nVerpflichtung zum Tragen eines Mund-Nasen-Schut
 zes\n1 m³ Abfall je Anlieferung\nmax. 3 Autos gleichzeitig am Betriebsgelä
 nde\n https://www.selzthal.at/aktuelles/abfallkalender/sperr-und-sondermue
 ll/event/783-sperr-und-sondermuell
DTSTART:20260508T110000Z
DTEND:20270429T140000Z
LOCATION:Altstoffsammelzentrum Selzthal (Gösserstraße 4\, 8900\, Selzthal\,
  Liezen\, Steiermark)
SUMMARY:Sperr- und Sondermüll
URL:https://www.selzthal.at/aktuelles/abfallkalender/sperr-und-sondermuell/
 event/783-sperr-und-sondermuell
END:VEVENT
BEGIN:VEVENT
UID:20260423T223600UTC-6890SeFnMs@https://www.selzthal.at/
DTSTAMP:20260423T223600Z
DESCRIPTION:Bitte beachten Sie die Sicherheitsmaßnahmen:\n\nAbfallarten zuh
 ause vorsortieren &nbsp\;\nVerpflichtung zum Tragen eines Mund-Nasen-Schut
 zes\n1 m³ Abfall je Anlieferung\nmax. 3 Autos gleichzeitig am Betriebsgelä
 nde\n https://www.selzthal.at/aktuelles/abfallkalender/sperr-und-sondermue
 ll/event/784-sperr-und-sondermuell
DTSTART:20260612T110000Z
DTEND:20270603T140000Z
LOCATION:Altstoffsammelzentrum Selzthal (Gösserstraße 4\, 8900\, Selzthal\,
  Liezen\, Steiermark)
SUMMARY:Sperr- und Sondermüll
URL:https://www.selzthal.at/aktuelles/abfallkalender/sperr-und-sondermuell/
 event/784-sperr-und-sondermuell
END:VEVENT
END:VCALENDAR
